BEGIN:VCALENDAR
VERSION:2.0
PRODID:-//engelschamanin.de - ECPv5.9.1//NONSGML v1.0//EN
CALSCALE:GREGORIAN
METHOD:PUBLISH
X-WR-CALNAME:engelschamanin.de
X-ORIGINAL-URL:https://engelschamanin.de
X-WR-CALDESC:Events for engelschamanin.de
BEGIN:VTIMEZONE
TZID:Europe/Berlin
BEGIN:DAYLIGHT
TZOFFSETFROM:+0100
TZOFFSETTO:+0200
TZNAME:CEST
DTSTART:20250330T010000
END:DAYLIGHT
BEGIN:STANDARD
TZOFFSETFROM:+0200
TZOFFSETTO:+0100
TZNAME:CET
DTSTART:20251026T010000
END:STANDARD
END:VTIMEZONE
BEGIN:VEVENT
DTSTART;TZID=Europe/Berlin:20250718T193000
DTEND;TZID=Europe/Berlin:20250718T200000
DTSTAMP:20260422T080757
CREATED:20250716T114845Z
LAST-MODIFIED:20250716T115013Z
UID:3942-1752867000-1752868800@engelschamanin.de
SUMMARY:Info-Abend "Innere Freiheit & echte Verbindung"
DESCRIPTION:5 Wochen-Kurs zur „Sprenge die unsichtbaren Fesseln & befreie dein wahres SELBST “   \n\n\n\n„Löse dich von der Vergangenheit & befreie dein wahres SELBST / die Kraft deiner Seele“ \n\n\n\n(Freitag Abend 19.30 Uhr Beginn: 25.07.2025 kurz nach dem Löwe-Neumond) \n\n\n\nTrag dich bis Donnerstag 12 Uhr in meinen Verteiler ein und sei kostenfrei live dabei – \n\n\n\nDu erfährst mehr über Hintergründe\, Inhalte und worum konkret es hier geht.
URL:https://engelschamanin.de/event/info-abend-innere-freiheit-echte-verbindung/
ATTACH;FMTTYPE=image/png:https://engelschamanin.de/wp-content/uploads/2025/07/Design-7.png
END:VEVENT
END:VCALENDAR