BEGIN:VCALENDAR
VERSION:2.0
PRODID:-//engelschamanin.de - ECPv5.9.1//NONSGML v1.0//EN
CALSCALE:GREGORIAN
METHOD:PUBLISH
X-WR-CALNAME:engelschamanin.de
X-ORIGINAL-URL:https://engelschamanin.de
X-WR-CALDESC:Events for engelschamanin.de
BEGIN:VTIMEZONE
TZID:Europe/Berlin
BEGIN:DAYLIGHT
TZOFFSETFROM:+0100
TZOFFSETTO:+0200
TZNAME:CEST
DTSTART:20250330T010000
END:DAYLIGHT
BEGIN:STANDARD
TZOFFSETFROM:+0200
TZOFFSETTO:+0100
TZNAME:CET
DTSTART:20251026T010000
END:STANDARD
END:VTIMEZONE
BEGIN:VEVENT
DTSTART;TZID=Europe/Berlin:20250328T110000
DTEND;TZID=Europe/Berlin:20250330T160000
DTSTAMP:20260422T005558
CREATED:20250122T171150Z
LAST-MODIFIED:20250215T130038Z
UID:3657-1743159600-1743350400@engelschamanin.de
SUMMARY:Beziehungs-Retreat auf Zypern "Alte Bindungsmuster erkennen und transformieren"
DESCRIPTION:Beziehungs-Retreats auf Zypern und in Deutschland\, Einzel- und Paarbegleitung\, Ehrliches Mitteilen und heilsame Kommunikation\, Intensiv-Wochenende für Paare und auch Einzelne Menschen\, die offen für das Thema sind und gute Voraussetzungen zum Gelingen von glücklichen Beziehungen schaffen möchten. \n\n\n\nKannst du dir einfach nicht erklären\, warum deine Beziehung nicht mehr funktioniert oder ständig immer wieder die gleichen Probleme und Themen auftreten? Oder aber du findest einfach nicht den passenden Partner? Ursachen liegen hier fast immer in der frühen Kindheit und den entsprechenden Prägungen. Doch das Problem selbst lösen zu wollen funktioniert hier einfach meist nicht\, zumindest nicht solange du oder Ihr nicht wisst wie man diese alten Prägungen nicht nur durchschaut\, sondern auflöst bzw. überschreibt. Wenn die alten Bindungstraumata endgültig gelöst werden und du neue gesunde Strukturen in Beziehungen etablierst und die „richtige“ Art der Kommunikation nutzt\, so kann das Ganze direkt völlig anders aussehen.  \n\n\n\nIch selbst habe das auch erlebt nach dem ich mich jahrelang versucht habe anzupassen in der Beziehung und schließlich erkannte\, “wo der Hund begraben ist”.  Durch meine eigene Betroffenheit mit dem Thema Trauma und vor allem Bindungs- und Entwicklungstrauma war ich quasi gezwungen mich damit in der Tiefe auseinanderzusetzen und ich bin da wirklich sehr gründlich! \n\n\n\nNeben der Ausbildung zum SSP® Provider\, wodurch ich von der Polyvagaltheorie erfuhr\, und einer Ausbildung in Somatisch Emotionaler Integration (SEI®) erlernte ich das Ehrliche Mitteilen und wandte es sehr konsequent an. Nach und nach fand ich auch die Menschen\, die bereit waren hier mitzumachen. \n\n\n\nAußerdem gibt es noch ein paar Elemente aus meiner Arbeit als Schamanin\, die ebenfalls sich hier sehr unterstützend auswirken. Mittlerweile führe ich nun eine erfüllte Beziehung\, ohne mich verbiegen oder anstrengen zu müssen oder mich allein zu fühlen\, wie das früher oft der Fall war.  \n\n\n\nZwischen 1 bis 3 Paare\, oder alternativ bis zu 6 Menschen\, die offen sind für diese Themen können an diesem Wochenende Unterstützung erhalten und eine neue Art von Kommunikation erlernen und die Möglichkeit erhalten alte Muster zu durchbrechen und gemeinsam eine Partnerschaft der neuen Zeit zu kreieren oder anzuziehen. \n\n\n\nwww.monika-suttner.de/beziehungs-retreats/
URL:https://engelschamanin.de/event/beziehungs-intensiv-wochenende-gemeinsam-wachsen-und-sich-gegenseitig-staerken/
ATTACH;FMTTYPE=image/png:https://engelschamanin.de/wp-content/uploads/2025/01/Glueckliche-Beziehungen-sind-kein-Zufall-1080-x-1350-px-2.png
END:VEVENT
END:VCALENDAR