BEGIN:VCALENDAR
VERSION:2.0
PRODID:-//engelschamanin.de - ECPv5.9.1//NONSGML v1.0//EN
CALSCALE:GREGORIAN
METHOD:PUBLISH
X-WR-CALNAME:engelschamanin.de
X-ORIGINAL-URL:https://engelschamanin.de
X-WR-CALDESC:Veranstaltungen für engelschamanin.de
BEGIN:VTIMEZONE
TZID:Europe/Berlin
BEGIN:DAYLIGHT
TZOFFSETFROM:+0100
TZOFFSETTO:+0200
TZNAME:CEST
DTSTART:20260329T010000
END:DAYLIGHT
BEGIN:STANDARD
TZOFFSETFROM:+0200
TZOFFSETTO:+0100
TZNAME:CET
DTSTART:20261025T010000
END:STANDARD
END:VTIMEZONE
BEGIN:VEVENT
DTSTART;TZID=Europe/Berlin:20260423T181500
DTEND;TZID=Europe/Berlin:20260423T193000
DTSTAMP:20260423T132202
CREATED:20260306T142620Z
LAST-MODIFIED:20260416T094333Z
UID:4041-1776968100-1776972600@engelschamanin.de
SUMMARY:Stress und Anspannung einfach abschütteln TRE®-Einführung Online (nur nach persönlichem Vorgespräch möglich)
DESCRIPTION:TRE® (Tension and Trauma Releasing Exercises) ist eine wunderbare Methode zur Selbsthilfe\, um Stress\, Anspannung und die körperlichen Auswirkungen von Trauma zu lösen. Durch eine Reihe von einfachen Körperübungen wird ein natürliches (neurogenes) Zittern im Körper ausgelöst\, das tiefe Entspannung fördert und körperliche sowie nervliche Anspannungen auf sichere Weise abbaut. Die Methode wurde von David Berceli entwickelt und ist für Menschen jeden Alters geeignet\, die einen Weg suchen\, um aus Anspannung und Stress in die Entspannung zu finden und ein besseres Körpergefühl zu entwickeln. \n\n\n\nDu erlernst bei mir die richtige Durchführung der Übungen und erhältst individuelle Unterstützung und Begleitung beim Prozess des neurogenen Zitterns. Ich empfehle dir entweder an meiner Übungsgruppe 1x im Monat teilzunehmen und praktische Unterstützung zu erhalten oder einen weiteren einzelnen Termin zur weiteren Unterstützung in deinem Prozess der Körperentspannung zu buchen nach ca. 2-4 Wochen.   \n\n\n\n \n\n\n\nÜbungsgruppe TRE im Anschluss 1 x monatlich möglich \n\n\n\nBei einem Teilnehmer 1 1/4h Preis 80€\, zwei TN je 50€\, 3 oder 4 TN je 40€
URL:https://engelschamanin.de/event/stress-und-anspannung-einfach-abschuetteln-tre-einfuehrung-online/
ATTACH;FMTTYPE=image/jpeg:https://engelschamanin.de/wp-content/uploads/2026/03/Kopie-von-TRE-Flyer-Monika-Instagram-Post-45-1.jpg
END:VEVENT
END:VCALENDAR