BEGIN:VCALENDAR
VERSION:2.0
PRODID:-//engelschamanin.de - ECPv5.9.1//NONSGML v1.0//EN
CALSCALE:GREGORIAN
METHOD:PUBLISH
X-WR-CALNAME:engelschamanin.de
X-ORIGINAL-URL:https://engelschamanin.de
X-WR-CALDESC:Veranstaltungen für engelschamanin.de
BEGIN:VTIMEZONE
TZID:Europe/Berlin
BEGIN:DAYLIGHT
TZOFFSETFROM:+0100
TZOFFSETTO:+0200
TZNAME:CEST
DTSTART:20250330T010000
END:DAYLIGHT
BEGIN:STANDARD
TZOFFSETFROM:+0200
TZOFFSETTO:+0100
TZNAME:CET
DTSTART:20251026T010000
END:STANDARD
END:VTIMEZONE
BEGIN:VEVENT
DTSTART;TZID=Europe/Berlin:20250413T193000
DTEND;TZID=Europe/Berlin:20250413T201500
DTSTAMP:20260421T124140
CREATED:20231208T214352Z
LAST-MODIFIED:20250315T160431Z
UID:2730-1744572600-1744575300@engelschamanin.de
SUMMARY:"Empower Yourself" Vollmond-Live (Zoom)
DESCRIPTION:Rund um das Thema Beziehungen\, Gefühle\, Entwicklungs- und Bindungs-Traumata\, Verstrickungen lösen\, kannst du meine Arbeit hier kennenlernen und eine kostenfreie Kurz-Beratung live erhalten   \n\n\n\n \n\n\n\nkomm gerne in meine kostenfreie FB-Gruppe (privat) und erfahre dort mehr zum Thema. Name der Gruppe: “Empower yourself – für feinfühlige Frauen” und erhalte auch hier den Link: http://bit.ly/fb-self-power \n\n\n\nWenn du in meinem Newsletter-Verteiler bist\, wirst du regelmässig informiert über anstehende Veranstaltungen und auch die konkreten Themen bei den Neumond und Vollmond- Live-Veranstaltungen\, denn diese variieren ja immer.  \n\n\n\nDu kannst dich hier kostenfrei eintragen: www.monika-suttner.de https://monika-suttner.de/live-event/ oder hier auf www.engelschamanin.de auf der ersten Seite ganz runter scrollen\, dann erhältst du den Link
URL:https://engelschamanin.de/event/empower-yourself-live/
ATTACH;FMTTYPE=image/png:https://engelschamanin.de/wp-content/uploads/2025/01/Die-Fesseln-der-Vergangenheit-abstreifen.png
END:VEVENT
END:VCALENDAR