BEGIN:VCALENDAR
VERSION:2.0
PRODID:-//engelschamanin.de - ECPv5.9.1//NONSGML v1.0//EN
CALSCALE:GREGORIAN
METHOD:PUBLISH
X-WR-CALNAME:engelschamanin.de
X-ORIGINAL-URL:https://engelschamanin.de
X-WR-CALDESC:Veranstaltungen für engelschamanin.de
BEGIN:VTIMEZONE
TZID:Europe/Berlin
BEGIN:DAYLIGHT
TZOFFSETFROM:+0100
TZOFFSETTO:+0200
TZNAME:CEST
DTSTART:20260329T010000
END:DAYLIGHT
BEGIN:STANDARD
TZOFFSETFROM:+0200
TZOFFSETTO:+0100
TZNAME:CET
DTSTART:20261025T010000
END:STANDARD
END:VTIMEZONE
BEGIN:VEVENT
DTSTART;TZID=Europe/Berlin:20260201T180000
DTEND;TZID=Europe/Berlin:20260201T200000
DTSTAMP:20260422T010121
CREATED:20211130T092951Z
LAST-MODIFIED:20260122T114220Z
UID:1269-1769968800-1769976000@engelschamanin.de
SUMMARY:"Die Wolfsfrau" Wiedererweckung deiner weiblichen Ur-Kraft im Jahreskreis  Imbolc - Teil 1
DESCRIPTION:Fühlst du dich gerufen deine weibliche Ur-Kraft besser kennenzulernen und vor allem zu leben? \n\n\n\n8 Zoom-Termine immer um die Jahreskreisfeste. Zu Imbolc erfährst du mehr über die dazugehörigen Göttinnen-Kräfte und worum es hierbei geht. Du lernst Skadi (das Wolfsmädchen) kennen und Brigida und erhältst entsprechende “Einweihungen” in ihre Energien über eine geführte Meditation❣  \n\n\n\nDen Teilnehmerinnen wird eine Audio-Aufzeichnung im Nachgang zur Verfügung gestellt. Falls du also an einem Termin mal nicht können solltest\, kannst du die Meditation/Energie-Übertragung im Nachgang machen. Alle 8 Termine nur 333€. Ich nehme max. 8 Teilnehmerinnen an\, um mich gut auf jede einzelne einstimmen zu können.  \n\n\n\nBei Fragen oder Interesse an einem Kennenlern-/Info-Gespräch\, melde bei monika.suttner@gmx.de❣ \n\n\n\nAnmeldeschluss ist der 30.01.2026 bzw. solange noch Plätze frei sind (max.8) \n\n\n\nFür 2026 habe ich eine 8-teilige Reihe zu den verschiedenen Aspekten der weiblichen Ur-Kraft ( Gebäre dich selbst neu ) Wiedererweckung der inneren Göttin im Jahreskreis geplant: alle 8 Termine finden online (über Zoom – abends) in einer kleinen Gruppe statt (max. 8 Frauen).– die Mädchen-Göttin/die freie Frau ( 01.02.26 online über Zoom ca. 18 – 20 Uhr)– die Kriegerin Element Feuer ( Frühjahrs Tag und Nachtgleiche 22.03.26)– die Liebende ( 30.04.)– die Priesterin Element Wasser (21.06.)– die (Korn-) Mutter/die Königin (02.08.)– die Heilerin/ Element Erde ( 20.09.)– die Wandlerin/Greisin – ( 01.11.)– die Lehrerin/die Holle am 20.Dezember über Zoom Abschluss ca. 2h
URL:https://engelschamanin.de/event/die-wolfsfrau-einweihungsweg-in-die-weibliche-kraft-im-jahreskreis/
LOCATION:Zoom
ATTACH;FMTTYPE=image/png:https://engelschamanin.de/wp-content/uploads/2021/11/Wolfsfrau-Logo.png
END:VEVENT
END:VCALENDAR